BEGIN:VCALENDAR
VERSION:2.0
PRODID:-//Library Market//iCal Export//EN
BEGIN:VEVENT
SUMMARY:Marvel Comics Presentation with Jerry DeCaire
UID:6046
DTSTAMP:20260423T041800Z
DTSTART:20260731T210000Z
DTEND:20260731T223000Z
LOCATION:130 N Franklin St, Decatur, IL 62523, United States
ROOM: J. Elizabeth Madden Auditorium
DESCRIPTION:Comic artist, Jerry DeCaire, has illustrated various titles at
  Marvel, such as &#039;X-Men&#039;, &#039;Wolverine&#039;, &#039;The Might
 y Thor&#039;, and &#039;Iron Man. In addition to his work with Marvel Comi
 cs, he is known as one of the fastest artists on the planet. This all-age
 s 1.5 hour presentation includes a semi-animated slideshow detailing how a
  comic book is made followed by a real-time drawing performance. All of th
 e demo-drawings, along with a limited number of color prints, are then sig
 ned, dated, and given away via drawing. 
URL:https://decatur.librarycalendar.com/event/marvel-comics-presentation-j
 erry-decaire-6046
END:VEVENT
END:VCALENDAR
